BEGIN:VCALENDAR
VERSION:2.0
PRODID:-//Shawnee County Suicide Prevention Coalition - ECPv6.15.20//NONSGML v1.0//EN
CALSCALE:GREGORIAN
METHOD:PUBLISH
X-WR-CALNAME:Shawnee County Suicide Prevention Coalition
X-ORIGINAL-URL:https://scspc.org
X-WR-CALDESC:Events for Shawnee County Suicide Prevention Coalition
REFRESH-INTERVAL;VALUE=DURATION:PT1H
X-Robots-Tag:noindex
X-PUBLISHED-TTL:PT1H
BEGIN:VTIMEZONE
TZID:UTC
BEGIN:STANDARD
TZOFFSETFROM:+0000
TZOFFSETTO:+0000
TZNAME:UTC
DTSTART:20250101T000000
END:STANDARD
END:VTIMEZONE
BEGIN:VEVENT
DTSTART;TZID=UTC:20260425T090000
DTEND;TZID=UTC:20260425T130000
DTSTAMP:20260423T122426
CREATED:20260207T172318Z
LAST-MODIFIED:20260207T174226Z
UID:315-1777107600-1777122000@scspc.org
SUMMARY:Annual Older Adult Resource Fair
DESCRIPTION:This year’s fair includes a new interactive format where older adults visit injury-prevention and health education stations. As participants complete a BINGO card\, they’ll receive a small gift and be entered into a grand prize drawing.
URL:https://scspc.org/event/annual-older-adult-resource-fair/
LOCATION:Stout Community Resource Center\, 2303 SW College Ave\, Topeka\, KS\, 66611
END:VEVENT
BEGIN:VEVENT
DTSTART;TZID=UTC:20260502T080000
DTEND;TZID=UTC:20260502T170000
DTSTAMP:20260423T122426
CREATED:20260207T174633Z
LAST-MODIFIED:20260207T174633Z
UID:323-1777708800-1777741200@scspc.org
SUMMARY:Run For Your Life 5K
DESCRIPTION:
URL:https://scspc.org/event/run-for-your-life-5k/
LOCATION:KS
END:VEVENT
BEGIN:VEVENT
DTSTART;TZID=UTC:20260522T080000
DTEND;TZID=UTC:20260522T170000
DTSTAMP:20260423T122426
CREATED:20260207T174337Z
LAST-MODIFIED:20260207T174552Z
UID:320-1779436800-1779469200@scspc.org
SUMMARY:Trauma Survivor Day & EMS Celebration
DESCRIPTION:Recognizing individuals who received care through our trauma system and celebrating recovery alongside EMS staff. \nThe event will include: \n\nSurvivor recognition and story sharing\nResource booths\nFood trucks and interactive activities for families
URL:https://scspc.org/event/trauma-survivor-day-ems-celebration/
LOCATION:KS
END:VEVENT
END:VCALENDAR